BEGIN:VCALENDAR
VERSION:2.0
PRODID:-//Pleasant Plains Township - ECPv6.15.20//NONSGML v1.0//EN
CALSCALE:GREGORIAN
METHOD:PUBLISH
X-WR-CALNAME:Pleasant Plains Township
X-ORIGINAL-URL:https://pleasantplainstwp.org
X-WR-CALDESC:Events for Pleasant Plains Township
REFRESH-INTERVAL;VALUE=DURATION:PT1H
X-Robots-Tag:noindex
X-PUBLISHED-TTL:PT1H
BEGIN:VTIMEZONE
TZID:UTC
BEGIN:STANDARD
TZOFFSETFROM:+0000
TZOFFSETTO:+0000
TZNAME:UTC
DTSTART:20220101T000000
END:STANDARD
END:VTIMEZONE
BEGIN:VEVENT
DTSTART;TZID=UTC:20251222T180000
DTEND;TZID=UTC:20251222T183000
DTSTAMP:20260420T075251
CREATED:20240130T005626Z
LAST-MODIFIED:20250523T002125Z
UID:2532-1766426400-1766428200@pleasantplainstwp.org
SUMMARY:DECEMBER 2025 BOARD MEETING
DESCRIPTION:Our board meets on the last Monday of every month. Any cancellations or rescheduling will be posted on our website as soon as the changes are agreed upon by our board members. \nTo view the archive of our previous meeting minutes\, click HERE. \nTo contact our Township Board\, click HERE. \nMEETING ADJOURNMENT TIMES MAY VARY. 
URL:https://pleasantplainstwp.org/event/december-2025-board-meeting/
LOCATION:Pleasant Plains Township Hall\, 7333 South M-37\, Baldwin\, MI\, 49304\, United States
END:VEVENT
BEGIN:VEVENT
DTSTART;TZID=UTC:20251209T110000
DTEND;TZID=UTC:20251209T113000
DTSTAMP:20260420T075251
CREATED:20251118T041918Z
LAST-MODIFIED:20251118T041918Z
UID:3321-1765278000-1765279800@pleasantplainstwp.org
SUMMARY:DECEMBER 2025 BOARD OF REVIEW MEETING
DESCRIPTION:The Pleasant Plains Township\, December board of review meeting is scheduled for Tuesday December 9th from 11:00 – 11:30.\n\n\n\n\n\n\nTo contact our Township Board\, click HERE. \nMEETING ADJOURNMENT TIMES MAY VARY. 
URL:https://pleasantplainstwp.org/event/december-2025-board-of-review-meeting/
LOCATION:Pleasant Plains Township Hall\, 7333 South M-37\, Baldwin\, MI\, 49304\, United States
CATEGORIES:Board of Review
END:VEVENT
BEGIN:VEVENT
DTSTART;TZID=UTC:20251124T180000
DTEND;TZID=UTC:20251124T183000
DTSTAMP:20260420T075251
CREATED:20240130T005554Z
LAST-MODIFIED:20250523T002040Z
UID:2530-1764007200-1764009000@pleasantplainstwp.org
SUMMARY:NOVEMBER 2025 BOARD MEETING
DESCRIPTION:Our board meets on the last Monday of every month. Any cancellations or rescheduling will be posted on our website as soon as the changes are agreed upon by our board members. \nTo view the archive of our previous meeting minutes\, click HERE. \nTo contact our Township Board\, click HERE. \nMEETING ADJOURNMENT TIMES MAY VARY. 
URL:https://pleasantplainstwp.org/event/november-2025-board-meeting/
LOCATION:Pleasant Plains Township Hall\, 7333 South M-37\, Baldwin\, MI\, 49304\, United States
END:VEVENT
BEGIN:VEVENT
DTSTART;TZID=UTC:20251027T180000
DTEND;TZID=UTC:20251027T183000
DTSTAMP:20260420T075251
CREATED:20240130T005523Z
LAST-MODIFIED:20250523T002001Z
UID:2528-1761588000-1761589800@pleasantplainstwp.org
SUMMARY:OCTOBER 2025 BOARD MEETING
DESCRIPTION:Our board meets on the last Monday of every month. Any cancellations or rescheduling will be posted on our website as soon as the changes are agreed upon by our board members. \nTo view the archive of our previous meeting minutes\, click HERE. \nTo contact our Township Board\, click HERE. \nMEETING ADJOURNMENT TIMES MAY VARY. 
URL:https://pleasantplainstwp.org/event/october-2025-board-meeting/
LOCATION:Pleasant Plains Township Hall\, 7333 South M-37\, Baldwin\, MI\, 49304\, United States
END:VEVENT
BEGIN:VEVENT
DTSTART;TZID=UTC:20251020T173000
DTEND;TZID=UTC:20251020T180000
DTSTAMP:20260420T075251
CREATED:20240326T192104Z
LAST-MODIFIED:20250523T002820Z
UID:2587-1760981400-1760983200@pleasantplainstwp.org
SUMMARY:OCTOBER 2025 PLANNING COMMISSION MEETING
DESCRIPTION:To contact our Township Officials\, click HERE.
URL:https://pleasantplainstwp.org/event/october-2025-planning-commission-meeting/
LOCATION:Pleasant Plains Township Hall\, 7333 South M-37\, Baldwin\, MI\, 49304\, United States
CATEGORIES:Planning Commission
END:VEVENT
BEGIN:VEVENT
DTSTART;TZID=UTC:20250929T180000
DTEND;TZID=UTC:20250929T183000
DTSTAMP:20260420T075251
CREATED:20240130T005449Z
LAST-MODIFIED:20250523T001924Z
UID:2526-1759168800-1759170600@pleasantplainstwp.org
SUMMARY:SEPTEMBER 2025 BOARD MEETING
DESCRIPTION:Our board meets on the last Monday of every month. Any cancellations or rescheduling will be posted on our website as soon as the changes are agreed upon by our board members. \nTo view the archive of our previous meeting minutes\, click HERE. \nTo contact our Township Board\, click HERE. \nMEETING ADJOURNMENT TIMES MAY VARY. 
URL:https://pleasantplainstwp.org/event/september-2025-board-meeting/
LOCATION:Pleasant Plains Township Hall\, 7333 South M-37\, Baldwin\, MI\, 49304\, United States
END:VEVENT
BEGIN:VEVENT
DTSTART;TZID=UTC:20250915T173000
DTEND;TZID=UTC:20250915T180000
DTSTAMP:20260420T075251
CREATED:20240326T191938Z
LAST-MODIFIED:20250523T002732Z
UID:2585-1757957400-1757959200@pleasantplainstwp.org
SUMMARY:SEPTEMBER 2025 PLANNING COMMISSION MEETING
DESCRIPTION:THIS MEETING HAS BEEN CANCELLED. \nTo contact our Township Officials\, click HERE.
URL:https://pleasantplainstwp.org/event/september-2025-planning-commission-meeting/
LOCATION:Pleasant Plains Township Hall\, 7333 South M-37\, Baldwin\, MI\, 49304\, United States
CATEGORIES:Planning Commission
END:VEVENT
BEGIN:VEVENT
DTSTART;TZID=UTC:20250825T180000
DTEND;TZID=UTC:20250825T183000
DTSTAMP:20260420T075251
CREATED:20240130T005420Z
LAST-MODIFIED:20250523T002450Z
UID:2524-1756144800-1756146600@pleasantplainstwp.org
SUMMARY:AUGUST 2025 BOARD MEETING
DESCRIPTION:Our board meets on the last Monday of every month. Any cancellations or rescheduling will be posted on our website as soon as the changes are agreed upon by our board members. \nTo view the archive of our previous meeting minutes\, click HERE. \nTo contact our Township Board\, click HERE. \nMEETING ADJOURNMENT TIMES MAY VARY. 
URL:https://pleasantplainstwp.org/event/august-2025-board-meeting/
LOCATION:Pleasant Plains Township Hall\, 7333 South M-37\, Baldwin\, MI\, 49304\, United States
END:VEVENT
BEGIN:VEVENT
DTSTART;TZID=UTC:20250818T173000
DTEND;TZID=UTC:20250818T180000
DTSTAMP:20260420T075251
CREATED:20250523T002548Z
LAST-MODIFIED:20250523T002548Z
UID:3122-1755538200-1755540000@pleasantplainstwp.org
SUMMARY:AUGUST 2025 PLANNING COMMISSION MEETING
DESCRIPTION:To contact our Township Officials\, click HERE.
URL:https://pleasantplainstwp.org/event/august-2025-planning-commission-meeting/
LOCATION:Pleasant Plains Township Hall\, 7333 South M-37\, Baldwin\, MI\, 49304\, United States
CATEGORIES:Planning Commission
END:VEVENT
BEGIN:VEVENT
DTSTART;TZID=UTC:20250728T180000
DTEND;TZID=UTC:20250728T183000
DTSTAMP:20260420T075251
CREATED:20240130T005346Z
LAST-MODIFIED:20250523T001815Z
UID:2522-1753725600-1753727400@pleasantplainstwp.org
SUMMARY:JULY 2025 BOARD MEETING
DESCRIPTION:Our board meets on the last Monday of every month. Any cancellations or rescheduling will be posted on our website as soon as the changes are agreed upon by our board members. \nTo view the archive of our previous meeting minutes\, click HERE. \nTo contact our Township Board\, click HERE. \nMEETING ADJOURNMENT TIMES MAY VARY. 
URL:https://pleasantplainstwp.org/event/july-2025-board-meeting/
LOCATION:Pleasant Plains Township Hall\, 7333 South M-37\, Baldwin\, MI\, 49304\, United States
END:VEVENT
BEGIN:VEVENT
DTSTART;TZID=UTC:20250722T110000
DTEND;TZID=UTC:20250722T113000
DTSTAMP:20260420T075251
CREATED:20240607T222402Z
LAST-MODIFIED:20250609T212723Z
UID:2648-1753182000-1753183800@pleasantplainstwp.org
SUMMARY:JULY 2025 BOARD OF REVIEW MEETING
DESCRIPTION:  \nTo contact our Township Board\, click HERE. \nMEETING ADJOURNMENT TIMES MAY VARY. 
URL:https://pleasantplainstwp.org/event/july-2025-board-of-review-meeting/
LOCATION:Pleasant Plains Township Hall\, 7333 South M-37\, Baldwin\, MI\, 49304\, United States
CATEGORIES:Board of Review
END:VEVENT
BEGIN:VEVENT
DTSTART;TZID=UTC:20250721T173000
DTEND;TZID=UTC:20250721T180000
DTSTAMP:20260420T075251
CREATED:20240326T191814Z
LAST-MODIFIED:20250523T002422Z
UID:2581-1753119000-1753120800@pleasantplainstwp.org
SUMMARY:JULY 2025 PLANNING COMMISSION MEETING
DESCRIPTION:To contact our Township Officials\, click HERE.
URL:https://pleasantplainstwp.org/event/july-2025-planning-commission-meeting/
LOCATION:Pleasant Plains Township Hall\, 7333 South M-37\, Baldwin\, MI\, 49304\, United States
CATEGORIES:Planning Commission
END:VEVENT
BEGIN:VEVENT
DTSTART;TZID=UTC:20250630T180000
DTEND;TZID=UTC:20250630T183000
DTSTAMP:20260420T075251
CREATED:20240130T005314Z
LAST-MODIFIED:20250523T001657Z
UID:2520-1751306400-1751308200@pleasantplainstwp.org
SUMMARY:JUNE 2025 BOARD MEETING
DESCRIPTION:Our board meets on the last Monday of every month. Any cancellations or rescheduling will be posted on our website as soon as the changes are agreed upon by our board members. \nTo view the archive of our previous meeting minutes\, click HERE. \nTo contact our Township Board\, click HERE. \nMEETING ADJOURNMENT TIMES MAY VARY. 
URL:https://pleasantplainstwp.org/event/june-2025-board-meeting/
LOCATION:Pleasant Plains Township Hall\, 7333 South M-37\, Baldwin\, MI\, 49304\, United States
END:VEVENT
BEGIN:VEVENT
DTSTART;TZID=UTC:20250616T173000
DTEND;TZID=UTC:20250616T180000
DTSTAMP:20260420T075251
CREATED:20240326T191740Z
LAST-MODIFIED:20250609T212223Z
UID:2579-1750095000-1750096800@pleasantplainstwp.org
SUMMARY:*Cancelled* JUNE 2025 PLANNING COMMISSION MEETING
DESCRIPTION:To contact our Township Officials\, click HERE.
URL:https://pleasantplainstwp.org/event/june-2025-planning-commission-meeting/
LOCATION:Pleasant Plains Township Hall\, 7333 South M-37\, Baldwin\, MI\, 49304\, United States
CATEGORIES:Planning Commission
END:VEVENT
BEGIN:VEVENT
DTSTART;TZID=UTC:20241118T173000
DTEND;TZID=UTC:20241118T180000
DTSTAMP:20260420T075251
CREATED:20240326T192143Z
LAST-MODIFIED:20240326T192143Z
UID:2589-1731951000-1731952800@pleasantplainstwp.org
SUMMARY:NOVEMBER 2024 PLANNING COMMISSION MEETING
DESCRIPTION:To contact our Township Officials\, click HERE.
URL:https://pleasantplainstwp.org/event/november-2024-planning-commission-meeting/
LOCATION:Pleasant Plains Township Hall\, 7333 South M-37\, Baldwin\, MI\, 49304\, United States
CATEGORIES:Planning Commission
END:VEVENT
BEGIN:VEVENT
DTSTART;TZID=UTC:20240801T140000
DTEND;TZID=UTC:20240801T180000
DTSTAMP:20260420T075251
CREATED:20240415T151711Z
LAST-MODIFIED:20240415T151711Z
UID:2596-1722520800-1722535200@pleasantplainstwp.org
SUMMARY:Household Hazardous Waste Clean-up Day
DESCRIPTION:View Google Directions to Wenger Pavilion HERE
URL:https://pleasantplainstwp.org/event/household-hazardous-waste-clean-up-day/
LOCATION:Wenger Pavillion
END:VEVENT
BEGIN:VEVENT
DTSTART;TZID=UTC:20240520T180000
DTEND;TZID=UTC:20240520T183000
DTSTAMP:20260420T075251
CREATED:20240130T005221Z
LAST-MODIFIED:20240130T005221Z
UID:2518-1716228000-1716229800@pleasantplainstwp.org
SUMMARY:MAY 2024 BOARD MEETING
DESCRIPTION:Our board meets on the last Monday of every month. Any cancellations or rescheduling will be posted on our website as soon as the changes are agreed upon by our board members. \nTo view the archive of our previous meeting minutes\, click HERE. \nTo contact our Township Board\, click HERE. \nMEETING ADJOURNMENT TIMES MAY VARY. 
URL:https://pleasantplainstwp.org/event/may-2024-board-meeting/
LOCATION:Pleasant Plains Township Hall\, 7333 South M-37\, Baldwin\, MI\, 49304\, United States
END:VEVENT
BEGIN:VEVENT
DTSTART;TZID=UTC:20240520T173000
DTEND;TZID=UTC:20240520T180000
DTSTAMP:20260420T075251
CREATED:20240326T191705Z
LAST-MODIFIED:20240326T191705Z
UID:2576-1716226200-1716228000@pleasantplainstwp.org
SUMMARY:MAY 2024 PLANNING COMMISSION MEETING
DESCRIPTION:To contact our Township Officials\, click HERE.
URL:https://pleasantplainstwp.org/event/may-2024-planning-commission-meeting/
LOCATION:Pleasant Plains Township Hall\, 7333 South M-37\, Baldwin\, MI\, 49304\, United States
CATEGORIES:Planning Commission
END:VEVENT
BEGIN:VEVENT
DTSTART;TZID=UTC:20240429T180000
DTEND;TZID=UTC:20240429T183000
DTSTAMP:20260420T075251
CREATED:20240130T005136Z
LAST-MODIFIED:20240130T005136Z
UID:2516-1714413600-1714415400@pleasantplainstwp.org
SUMMARY:APRIL 2024 BOARD MEETING
DESCRIPTION:Our board meets on the last Monday of every month. Any cancellations or rescheduling will be posted on our website as soon as the changes are agreed upon by our board members. \nTo view the archive of our previous meeting minutes\, click HERE. \nTo contact our Township Board\, click HERE. \nMEETING ADJOURNMENT TIMES MAY VARY. 
URL:https://pleasantplainstwp.org/event/april-2024-board-meeting/
LOCATION:Pleasant Plains Township Hall\, 7333 South M-37\, Baldwin\, MI\, 49304\, United States
END:VEVENT
BEGIN:VEVENT
DTSTART;TZID=UTC:20240415T173000
DTEND;TZID=UTC:20240415T180000
DTSTAMP:20260420T075251
CREATED:20220302T224207Z
LAST-MODIFIED:20240326T191640Z
UID:1352-1713202200-1713204000@pleasantplainstwp.org
SUMMARY:APRIL 2024 PLANNING COMMISSION MEETING
DESCRIPTION:To contact our Township Officials\, click HERE.
URL:https://pleasantplainstwp.org/event/april-2024-planning-board-meeting/
LOCATION:Pleasant Plains Township Hall\, 7333 South M-37\, Baldwin\, MI\, 49304\, United States
CATEGORIES:Planning Commission
END:VEVENT
BEGIN:VEVENT
DTSTART;TZID=UTC:20240325T173000
DTEND;TZID=UTC:20240325T183000
DTSTAMP:20260420T075251
CREATED:20240130T005039Z
LAST-MODIFIED:20240130T005039Z
UID:2513-1711387800-1711391400@pleasantplainstwp.org
SUMMARY:MARCH 2024 BOARD & BUDGET MEETING
DESCRIPTION:*5:30 BUDGET MEETING & REGULAR MEETING IMMEDIATELY FOLLOWING \nOur board meets on the last Monday of every month. Any cancellations or rescheduling will be posted on our website as soon as the changes are agreed upon by our board members. \nTo view the archive of our previous meeting minutes\, click HERE. \nTo contact our Township Board\, click HERE. \nMEETING ADJOURNMENT TIMES MAY VARY. 
URL:https://pleasantplainstwp.org/event/march-2024-board-budget-meeting/
LOCATION:Pleasant Plains Township Hall\, 7333 South M-37\, Baldwin\, MI\, 49304\, United States
END:VEVENT
BEGIN:VEVENT
DTSTART;TZID=UTC:20240226T180000
DTEND;TZID=UTC:20240226T183000
DTSTAMP:20260420T075251
CREATED:20240130T004641Z
LAST-MODIFIED:20240130T004641Z
UID:2511-1708970400-1708972200@pleasantplainstwp.org
SUMMARY:FEBRUARY 2024 BOARD MEETING
DESCRIPTION:Our board meets on the last Monday of every month. Any cancellations or rescheduling will be posted on our website as soon as the changes are agreed upon by our board members. \nTo view the archive of our previous meeting minutes\, click HERE. \nTo contact our Township Board\, click HERE. \nMEETING ADJOURNMENT TIMES MAY VARY. 
URL:https://pleasantplainstwp.org/event/february-2024-board-meeting/
LOCATION:Pleasant Plains Township Hall\, 7333 South M-37\, Baldwin\, MI\, 49304\, United States
END:VEVENT
BEGIN:VEVENT
DTSTART;TZID=UTC:20240129T180000
DTEND;TZID=UTC:20240129T183000
DTSTAMP:20260420T075251
CREATED:20230726T035423Z
LAST-MODIFIED:20230726T035627Z
UID:2380-1706551200-1706553000@pleasantplainstwp.org
SUMMARY:JANUARY 2024 BOARD MEETING
DESCRIPTION:Our board meets on the last Monday of every month. Any cancellations or rescheduling will be posted on our website as soon as the changes are agreed upon by our board members. \nTo view the archive of our previous meeting minutes\, click HERE. \nTo contact our Township Board\, click HERE. \nMEETING ADJOURNMENT TIMES MAY VARY. 
URL:https://pleasantplainstwp.org/event/january-2024-board-meeting/
LOCATION:Pleasant Plains Township Hall\, 7333 South M-37\, Baldwin\, MI\, 49304\, United States
END:VEVENT
BEGIN:VEVENT
DTSTART;TZID=UTC:20231218T180000
DTEND;TZID=UTC:20231218T183000
DTSTAMP:20260420T075251
CREATED:20230726T035435Z
LAST-MODIFIED:20230726T035518Z
UID:2381-1702922400-1702924200@pleasantplainstwp.org
SUMMARY:DECEMBER 2023 BOARD MEETING
DESCRIPTION:Our board meets on the last Monday of every month. Any cancellations or rescheduling will be posted on our website as soon as the changes are agreed upon by our board members. \nTo view the archive of our previous meeting minutes\, click HERE. \nTo contact our Township Board\, click HERE. \nMEETING ADJOURNMENT TIMES MAY VARY. 
URL:https://pleasantplainstwp.org/event/december-2023-board-meeting/
LOCATION:Pleasant Plains Township Hall\, 7333 South M-37\, Baldwin\, MI\, 49304\, United States
END:VEVENT
BEGIN:VEVENT
DTSTART;TZID=UTC:20231127T180000
DTEND;TZID=UTC:20231127T183000
DTSTAMP:20260420T075251
CREATED:20230726T035327Z
LAST-MODIFIED:20230726T035405Z
UID:2378-1701108000-1701109800@pleasantplainstwp.org
SUMMARY:NOVEMBER 2023 BOARD MEETING
DESCRIPTION:Our board meets on the last Monday of every month. Any cancellations or rescheduling will be posted on our website as soon as the changes are agreed upon by our board members. \nTo view the archive of our previous meeting minutes\, click HERE. \nTo contact our Township Board\, click HERE. \nMEETING ADJOURNMENT TIMES MAY VARY. 
URL:https://pleasantplainstwp.org/event/november-2023-board-meeting/
LOCATION:Pleasant Plains Township Hall\, 7333 South M-37\, Baldwin\, MI\, 49304\, United States
END:VEVENT
BEGIN:VEVENT
DTSTART;TZID=UTC:20231030T180000
DTEND;TZID=UTC:20231030T183000
DTSTAMP:20260420T075251
CREATED:20230726T035218Z
LAST-MODIFIED:20230726T035307Z
UID:2376-1698688800-1698690600@pleasantplainstwp.org
SUMMARY:OCTOBER 2023 BOARD MEETING
DESCRIPTION:Our board meets on the last Monday of every month. Any cancellations or rescheduling will be posted on our website as soon as the changes are agreed upon by our board members. \nTo view the archive of our previous meeting minutes\, click HERE. \nTo contact our Township Board\, click HERE. \nMEETING ADJOURNMENT TIMES MAY VARY. 
URL:https://pleasantplainstwp.org/event/october-2023-board-meeting/
LOCATION:Pleasant Plains Township Hall\, 7333 South M-37\, Baldwin\, MI\, 49304\, United States
END:VEVENT
BEGIN:VEVENT
DTSTART;TZID=UTC:20230925T180000
DTEND;TZID=UTC:20230925T183000
DTSTAMP:20260420T075251
CREATED:20230726T035136Z
LAST-MODIFIED:20230726T035209Z
UID:2374-1695664800-1695666600@pleasantplainstwp.org
SUMMARY:SEPTEMBER 2023 BOARD MEETING
DESCRIPTION:Our board meets on the last Monday of every month. Any cancellations or rescheduling will be posted on our website as soon as the changes are agreed upon by our board members. \nTo view the archive of our previous meeting minutes\, click HERE. \nTo contact our Township Board\, click HERE. \nMEETING ADJOURNMENT TIMES MAY VARY. 
URL:https://pleasantplainstwp.org/event/september-2023-board-meeting/
LOCATION:Pleasant Plains Township Hall\, 7333 South M-37\, Baldwin\, MI\, 49304\, United States
END:VEVENT
BEGIN:VEVENT
DTSTART;TZID=UTC:20230828T180000
DTEND;TZID=UTC:20230828T183000
DTSTAMP:20260420T075251
CREATED:20230726T034839Z
LAST-MODIFIED:20230726T035026Z
UID:2369-1693245600-1693247400@pleasantplainstwp.org
SUMMARY:AUGUST 2023 BOARD MEETING
DESCRIPTION:Our board meets on the last Monday of every month. Any cancellations or rescheduling will be posted on our website as soon as the changes are agreed upon by our board members. \nTo view the archive of our previous meeting minutes\, click HERE. \nTo contact our Township Board\, click HERE. \nMEETING ADJOURNMENT TIMES MAY VARY. 
URL:https://pleasantplainstwp.org/event/august-2023-board-meeting/
LOCATION:Pleasant Plains Township Hall\, 7333 South M-37\, Baldwin\, MI\, 49304\, United States
END:VEVENT
BEGIN:VEVENT
DTSTART;TZID=UTC:20230731T180000
DTEND;TZID=UTC:20230731T183000
DTSTAMP:20260420T075251
CREATED:20230726T035046Z
LAST-MODIFIED:20230726T035119Z
UID:2372-1690826400-1690828200@pleasantplainstwp.org
SUMMARY:JULY 2023 BOARD MEETING
DESCRIPTION:Our board meets on the last Monday of every month. Any cancellations or rescheduling will be posted on our website as soon as the changes are agreed upon by our board members. \nTo view the archive of our previous meeting minutes\, click HERE. \nTo contact our Township Board\, click HERE. \nMEETING ADJOURNMENT TIMES MAY VARY. 
URL:https://pleasantplainstwp.org/event/july-2023-board-meeting/
LOCATION:Pleasant Plains Township Hall\, 7333 South M-37\, Baldwin\, MI\, 49304\, United States
END:VEVENT
BEGIN:VEVENT
DTSTART;TZID=UTC:20230227T180000
DTEND;TZID=UTC:20230227T183000
DTSTAMP:20260420T075251
CREATED:20230119T184915Z
LAST-MODIFIED:20230119T184953Z
UID:2305-1677520800-1677522600@pleasantplainstwp.org
SUMMARY:FEBRUARY 2023 BOARD MEETING
DESCRIPTION:Our board meets on the 4th Monday of every month. Any cancellations or rescheduling will be posted on our website as soon as the changes are agreed upon by our board members. \nTo view the archive of our previous meeting minutes\, click HERE. \nTo contact our Township Board\, click HERE. \nMEETING ADJOURNMENT TIMES MAY VARY. 
URL:https://pleasantplainstwp.org/event/february-2023-board-meeting/
LOCATION:Pleasant Plains Township Hall\, 7333 South M-37\, Baldwin\, MI\, 49304\, United States
END:VEVENT
END:VCALENDAR