BEGIN:VCALENDAR
VERSION:2.0
PRODID:-//Pleasant Plains Township - ECPv6.15.20//NONSGML v1.0//EN
CALSCALE:GREGORIAN
METHOD:PUBLISH
X-ORIGINAL-URL:https://pleasantplainstwp.org
X-WR-CALDESC:Events for Pleasant Plains Township
REFRESH-INTERVAL;VALUE=DURATION:PT1H
X-Robots-Tag:noindex
X-PUBLISHED-TTL:PT1H
BEGIN:VTIMEZONE
TZID:UTC
BEGIN:STANDARD
TZOFFSETFROM:+0000
TZOFFSETTO:+0000
TZNAME:UTC
DTSTART:20250101T000000
END:STANDARD
END:VTIMEZONE
BEGIN:VEVENT
DTSTART;TZID=UTC:20260126T180000
DTEND;TZID=UTC:20260126T183000
DTSTAMP:20260420T025159
CREATED:20240130T005700Z
LAST-MODIFIED:20250523T002230Z
UID:2534-1769450400-1769452200@pleasantplainstwp.org
SUMMARY:JANUARY 2026 BOARD MEETING
DESCRIPTION:Our board meets on the last Monday of every month. Any cancellations or rescheduling will be posted on our website as soon as the changes are agreed upon by our board members. \nTo view the archive of our previous meeting minutes\, click HERE. \nTo contact our Township Board\, click HERE. \nMEETING ADJOURNMENT TIMES MAY VARY. 
URL:https://pleasantplainstwp.org/event/january-2026-board-meeting/
LOCATION:Pleasant Plains Township Hall\, 7333 South M-37\, Baldwin\, MI\, 49304\, United States
END:VEVENT
BEGIN:VEVENT
DTSTART;TZID=UTC:20260131T090000
DTEND;TZID=UTC:20260131T120000
DTSTAMP:20260420T025159
CREATED:20260122T060959Z
LAST-MODIFIED:20260122T061000Z
UID:3361-1769850000-1769860800@pleasantplainstwp.org
SUMMARY:January Recycle Day
DESCRIPTION:
URL:https://pleasantplainstwp.org/event/january-recycle-day/
LOCATION:Pleasant Plains Township Hall\, 7333 South M-37\, Baldwin\, MI\, 49304\, United States
CATEGORIES:Recycling
END:VEVENT
BEGIN:VEVENT
DTSTART;TZID=UTC:20260303T113000
DTEND;TZID=UTC:20260303T120000
DTSTAMP:20260420T025159
CREATED:20260112T184007Z
LAST-MODIFIED:20260112T184327Z
UID:3342-1772537400-1772539200@pleasantplainstwp.org
SUMMARY:BOR Organizational Meeting (Board Members & Assessor)
DESCRIPTION:
URL:https://pleasantplainstwp.org/event/organizational-meeting-board-members-assessor/
LOCATION:Pleasant Plains Township Hall\, 7333 South M-37\, Baldwin\, MI\, 49304\, United States
CATEGORIES:Board of Review
END:VEVENT
BEGIN:VEVENT
DTSTART;TZID=UTC:20260309T133000
DTEND;TZID=UTC:20260309T193000
DTSTAMP:20260420T025159
CREATED:20260112T184203Z
LAST-MODIFIED:20260112T184204Z
UID:3344-1773063000-1773084600@pleasantplainstwp.org
SUMMARY:Board of Review (Open to Public)
DESCRIPTION:
URL:https://pleasantplainstwp.org/event/board-of-review-open-to-public/
LOCATION:Pleasant Plains Township Hall\, 7333 South M-37\, Baldwin\, MI\, 49304\, United States
CATEGORIES:Board of Review
END:VEVENT
BEGIN:VEVENT
DTSTART;TZID=UTC:20260310T133000
DTEND;TZID=UTC:20260310T193000
DTSTAMP:20260420T025159
CREATED:20260112T184256Z
LAST-MODIFIED:20260112T184256Z
UID:3346-1773149400-1773171000@pleasantplainstwp.org
SUMMARY:Board of Review (Open to Public)
DESCRIPTION:
URL:https://pleasantplainstwp.org/event/board-of-review-open-to-public-2/
LOCATION:Pleasant Plains Township Hall\, 7333 South M-37\, Baldwin\, MI\, 49304\, United States
CATEGORIES:Board of Review
END:VEVENT
BEGIN:VEVENT
DTSTART;TZID=UTC:20260311T093000
DTEND;TZID=UTC:20260311T100000
DTSTAMP:20260420T025159
CREATED:20260112T184457Z
LAST-MODIFIED:20260112T184457Z
UID:3349-1773221400-1773223200@pleasantplainstwp.org
SUMMARY:BOR Final Meeting (Board Members & Assessor)
DESCRIPTION:
URL:https://pleasantplainstwp.org/event/bor-final-meeting-board-members-assessor/
LOCATION:Pleasant Plains Township Hall\, 7333 South M-37\, Baldwin\, MI\, 49304\, United States
CATEGORIES:Board of Review
END:VEVENT
BEGIN:VEVENT
DTSTART;TZID=UTC:20260316T173000
DTEND;TZID=UTC:20260316T180000
DTSTAMP:20260420T025159
CREATED:20240326T192232Z
LAST-MODIFIED:20250523T002938Z
UID:2591-1773682200-1773684000@pleasantplainstwp.org
SUMMARY:MARCH 2026 PLANNING COMMISSION MEETING
DESCRIPTION:To contact our Township Officials\, click HERE.
URL:https://pleasantplainstwp.org/event/march-2026-planning-commission-meeting/
LOCATION:Pleasant Plains Township Hall\, 7333 South M-37\, Baldwin\, MI\, 49304\, United States
CATEGORIES:Planning Commission
END:VEVENT
BEGIN:VEVENT
DTSTART;TZID=UTC:20260328T090000
DTEND;TZID=UTC:20260328T120000
DTSTAMP:20260420T025159
CREATED:20260122T061055Z
LAST-MODIFIED:20260122T061055Z
UID:3363-1774688400-1774699200@pleasantplainstwp.org
SUMMARY:March Recycle Day
DESCRIPTION:
URL:https://pleasantplainstwp.org/event/march-recycle-day/
LOCATION:Pleasant Plains Township Hall\, 7333 South M-37\, Baldwin\, MI\, 49304\, United States
CATEGORIES:Recycling
END:VEVENT
BEGIN:VEVENT
DTSTART;TZID=UTC:20260425T090000
DTEND;TZID=UTC:20260425T120000
DTSTAMP:20260420T025159
CREATED:20260122T061157Z
LAST-MODIFIED:20260122T061157Z
UID:3365-1777107600-1777118400@pleasantplainstwp.org
SUMMARY:April Recycle Day
DESCRIPTION:
URL:https://pleasantplainstwp.org/event/april-recycle-day/
LOCATION:Pleasant Plains Township Hall\, 7333 South M-37\, Baldwin\, MI\, 49304\, United States
CATEGORIES:Recycling
END:VEVENT
BEGIN:VEVENT
DTSTART;TZID=UTC:20260523T090000
DTEND;TZID=UTC:20260523T120000
DTSTAMP:20260420T025159
CREATED:20260122T061257Z
LAST-MODIFIED:20260122T061257Z
UID:3367-1779526800-1779537600@pleasantplainstwp.org
SUMMARY:May Recycle Day
DESCRIPTION:
URL:https://pleasantplainstwp.org/event/may-recycle-day/
LOCATION:Pleasant Plains Township Hall\, 7333 South M-37\, Baldwin\, MI\, 49304\, United States
CATEGORIES:Recycling
END:VEVENT
BEGIN:VEVENT
DTSTART;TZID=UTC:20260627T090000
DTEND;TZID=UTC:20260627T120000
DTSTAMP:20260420T025159
CREATED:20260122T061402Z
LAST-MODIFIED:20260122T061402Z
UID:3369-1782550800-1782561600@pleasantplainstwp.org
SUMMARY:June Recycle Day
DESCRIPTION:
URL:https://pleasantplainstwp.org/event/june-recycle-day/
LOCATION:Pleasant Plains Township Hall\, 7333 South M-37\, Baldwin\, MI\, 49304\, United States
CATEGORIES:Recycling
END:VEVENT
BEGIN:VEVENT
DTSTART;TZID=UTC:20260725T090000
DTEND;TZID=UTC:20260725T120000
DTSTAMP:20260420T025159
CREATED:20260122T061453Z
LAST-MODIFIED:20260122T061453Z
UID:3371-1784970000-1784980800@pleasantplainstwp.org
SUMMARY:July Recycle Day
DESCRIPTION:
URL:https://pleasantplainstwp.org/event/july-recycle-day/
LOCATION:Pleasant Plains Township Hall\, 7333 South M-37\, Baldwin\, MI\, 49304\, United States
CATEGORIES:Recycling
END:VEVENT
BEGIN:VEVENT
DTSTART;TZID=UTC:20260829T090000
DTEND;TZID=UTC:20260829T120000
DTSTAMP:20260420T025159
CREATED:20260122T061535Z
LAST-MODIFIED:20260122T061535Z
UID:3373-1787994000-1788004800@pleasantplainstwp.org
SUMMARY:August Recycle Day
DESCRIPTION:
URL:https://pleasantplainstwp.org/event/august-recycle-day/
LOCATION:Pleasant Plains Township Hall\, 7333 South M-37\, Baldwin\, MI\, 49304\, United States
CATEGORIES:Recycling
END:VEVENT
BEGIN:VEVENT
DTSTART;TZID=UTC:20260926T090000
DTEND;TZID=UTC:20260926T120000
DTSTAMP:20260420T025159
CREATED:20260122T061629Z
LAST-MODIFIED:20260122T061629Z
UID:3375-1790413200-1790424000@pleasantplainstwp.org
SUMMARY:September Recycle Day
DESCRIPTION:
URL:https://pleasantplainstwp.org/event/september-recycle-day/
LOCATION:Pleasant Plains Township Hall\, 7333 South M-37\, Baldwin\, MI\, 49304\, United States
CATEGORIES:Recycling
END:VEVENT
BEGIN:VEVENT
DTSTART;TZID=UTC:20261031T090000
DTEND;TZID=UTC:20261031T120000
DTSTAMP:20260420T025159
CREATED:20260122T061736Z
LAST-MODIFIED:20260122T061736Z
UID:3377-1793437200-1793448000@pleasantplainstwp.org
SUMMARY:October Recycle Day
DESCRIPTION:
URL:https://pleasantplainstwp.org/event/october-recycle-day/
LOCATION:Pleasant Plains Township Hall\, 7333 South M-37\, Baldwin\, MI\, 49304\, United States
CATEGORIES:Recycling
END:VEVENT
BEGIN:VEVENT
DTSTART;TZID=UTC:20261205T090000
DTEND;TZID=UTC:20261205T120000
DTSTAMP:20260420T025159
CREATED:20260122T061908Z
LAST-MODIFIED:20260122T061908Z
UID:3381-1796461200-1796472000@pleasantplainstwp.org
SUMMARY:December Recycle Day
DESCRIPTION:
URL:https://pleasantplainstwp.org/event/december-recycle-day/
LOCATION:Pleasant Plains Township Hall\, 7333 South M-37\, Baldwin\, MI\, 49304\, United States
CATEGORIES:Recycling
END:VEVENT
END:VCALENDAR