BEGIN:VCALENDAR
VERSION:2.0
PRODID:-//Pleasant Plains Township - ECPv6.15.20//NONSGML v1.0//EN
CALSCALE:GREGORIAN
METHOD:PUBLISH
X-WR-CALNAME:Pleasant Plains Township
X-ORIGINAL-URL:https://pleasantplainstwp.org
X-WR-CALDESC:Events for Pleasant Plains Township
REFRESH-INTERVAL;VALUE=DURATION:PT1H
X-Robots-Tag:noindex
X-PUBLISHED-TTL:PT1H
BEGIN:VTIMEZONE
TZID:UTC
BEGIN:STANDARD
TZOFFSETFROM:+0000
TZOFFSETTO:+0000
TZNAME:UTC
DTSTART:20210101T000000
END:STANDARD
END:VTIMEZONE
BEGIN:VEVENT
DTSTART;TZID=UTC:20240129T180000
DTEND;TZID=UTC:20240129T183000
DTSTAMP:20260421T054001
CREATED:20230726T035423Z
LAST-MODIFIED:20230726T035627Z
UID:2380-1706551200-1706553000@pleasantplainstwp.org
SUMMARY:JANUARY 2024 BOARD MEETING
DESCRIPTION:Our board meets on the last Monday of every month. Any cancellations or rescheduling will be posted on our website as soon as the changes are agreed upon by our board members. \nTo view the archive of our previous meeting minutes\, click HERE. \nTo contact our Township Board\, click HERE. \nMEETING ADJOURNMENT TIMES MAY VARY. 
URL:https://pleasantplainstwp.org/event/january-2024-board-meeting/
LOCATION:Pleasant Plains Township Hall\, 7333 South M-37\, Baldwin\, MI\, 49304\, United States
END:VEVENT
BEGIN:VEVENT
DTSTART;TZID=UTC:20231218T180000
DTEND;TZID=UTC:20231218T183000
DTSTAMP:20260421T054001
CREATED:20230726T035435Z
LAST-MODIFIED:20230726T035518Z
UID:2381-1702922400-1702924200@pleasantplainstwp.org
SUMMARY:DECEMBER 2023 BOARD MEETING
DESCRIPTION:Our board meets on the last Monday of every month. Any cancellations or rescheduling will be posted on our website as soon as the changes are agreed upon by our board members. \nTo view the archive of our previous meeting minutes\, click HERE. \nTo contact our Township Board\, click HERE. \nMEETING ADJOURNMENT TIMES MAY VARY. 
URL:https://pleasantplainstwp.org/event/december-2023-board-meeting/
LOCATION:Pleasant Plains Township Hall\, 7333 South M-37\, Baldwin\, MI\, 49304\, United States
END:VEVENT
BEGIN:VEVENT
DTSTART;TZID=UTC:20231127T180000
DTEND;TZID=UTC:20231127T183000
DTSTAMP:20260421T054001
CREATED:20230726T035327Z
LAST-MODIFIED:20230726T035405Z
UID:2378-1701108000-1701109800@pleasantplainstwp.org
SUMMARY:NOVEMBER 2023 BOARD MEETING
DESCRIPTION:Our board meets on the last Monday of every month. Any cancellations or rescheduling will be posted on our website as soon as the changes are agreed upon by our board members. \nTo view the archive of our previous meeting minutes\, click HERE. \nTo contact our Township Board\, click HERE. \nMEETING ADJOURNMENT TIMES MAY VARY. 
URL:https://pleasantplainstwp.org/event/november-2023-board-meeting/
LOCATION:Pleasant Plains Township Hall\, 7333 South M-37\, Baldwin\, MI\, 49304\, United States
END:VEVENT
BEGIN:VEVENT
DTSTART;TZID=UTC:20231030T180000
DTEND;TZID=UTC:20231030T183000
DTSTAMP:20260421T054001
CREATED:20230726T035218Z
LAST-MODIFIED:20230726T035307Z
UID:2376-1698688800-1698690600@pleasantplainstwp.org
SUMMARY:OCTOBER 2023 BOARD MEETING
DESCRIPTION:Our board meets on the last Monday of every month. Any cancellations or rescheduling will be posted on our website as soon as the changes are agreed upon by our board members. \nTo view the archive of our previous meeting minutes\, click HERE. \nTo contact our Township Board\, click HERE. \nMEETING ADJOURNMENT TIMES MAY VARY. 
URL:https://pleasantplainstwp.org/event/october-2023-board-meeting/
LOCATION:Pleasant Plains Township Hall\, 7333 South M-37\, Baldwin\, MI\, 49304\, United States
END:VEVENT
BEGIN:VEVENT
DTSTART;TZID=UTC:20230925T180000
DTEND;TZID=UTC:20230925T183000
DTSTAMP:20260421T054001
CREATED:20230726T035136Z
LAST-MODIFIED:20230726T035209Z
UID:2374-1695664800-1695666600@pleasantplainstwp.org
SUMMARY:SEPTEMBER 2023 BOARD MEETING
DESCRIPTION:Our board meets on the last Monday of every month. Any cancellations or rescheduling will be posted on our website as soon as the changes are agreed upon by our board members. \nTo view the archive of our previous meeting minutes\, click HERE. \nTo contact our Township Board\, click HERE. \nMEETING ADJOURNMENT TIMES MAY VARY. 
URL:https://pleasantplainstwp.org/event/september-2023-board-meeting/
LOCATION:Pleasant Plains Township Hall\, 7333 South M-37\, Baldwin\, MI\, 49304\, United States
END:VEVENT
BEGIN:VEVENT
DTSTART;TZID=UTC:20230828T180000
DTEND;TZID=UTC:20230828T183000
DTSTAMP:20260421T054001
CREATED:20230726T034839Z
LAST-MODIFIED:20230726T035026Z
UID:2369-1693245600-1693247400@pleasantplainstwp.org
SUMMARY:AUGUST 2023 BOARD MEETING
DESCRIPTION:Our board meets on the last Monday of every month. Any cancellations or rescheduling will be posted on our website as soon as the changes are agreed upon by our board members. \nTo view the archive of our previous meeting minutes\, click HERE. \nTo contact our Township Board\, click HERE. \nMEETING ADJOURNMENT TIMES MAY VARY. 
URL:https://pleasantplainstwp.org/event/august-2023-board-meeting/
LOCATION:Pleasant Plains Township Hall\, 7333 South M-37\, Baldwin\, MI\, 49304\, United States
END:VEVENT
BEGIN:VEVENT
DTSTART;TZID=UTC:20230731T180000
DTEND;TZID=UTC:20230731T183000
DTSTAMP:20260421T054001
CREATED:20230726T035046Z
LAST-MODIFIED:20230726T035119Z
UID:2372-1690826400-1690828200@pleasantplainstwp.org
SUMMARY:JULY 2023 BOARD MEETING
DESCRIPTION:Our board meets on the last Monday of every month. Any cancellations or rescheduling will be posted on our website as soon as the changes are agreed upon by our board members. \nTo view the archive of our previous meeting minutes\, click HERE. \nTo contact our Township Board\, click HERE. \nMEETING ADJOURNMENT TIMES MAY VARY. 
URL:https://pleasantplainstwp.org/event/july-2023-board-meeting/
LOCATION:Pleasant Plains Township Hall\, 7333 South M-37\, Baldwin\, MI\, 49304\, United States
END:VEVENT
BEGIN:VEVENT
DTSTART;TZID=UTC:20230227T180000
DTEND;TZID=UTC:20230227T183000
DTSTAMP:20260421T054001
CREATED:20230119T184915Z
LAST-MODIFIED:20230119T184953Z
UID:2305-1677520800-1677522600@pleasantplainstwp.org
SUMMARY:FEBRUARY 2023 BOARD MEETING
DESCRIPTION:Our board meets on the 4th Monday of every month. Any cancellations or rescheduling will be posted on our website as soon as the changes are agreed upon by our board members. \nTo view the archive of our previous meeting minutes\, click HERE. \nTo contact our Township Board\, click HERE. \nMEETING ADJOURNMENT TIMES MAY VARY. 
URL:https://pleasantplainstwp.org/event/february-2023-board-meeting/
LOCATION:Pleasant Plains Township Hall\, 7333 South M-37\, Baldwin\, MI\, 49304\, United States
END:VEVENT
BEGIN:VEVENT
DTSTART;TZID=UTC:20230206T180000
DTEND;TZID=UTC:20230206T183000
DTSTAMP:20260421T054001
CREATED:20230119T182905Z
LAST-MODIFIED:20230119T183135Z
UID:2301-1675706400-1675708200@pleasantplainstwp.org
SUMMARY:JANUARY 2023 BOARD MEETING
DESCRIPTION:** THIS MEETING DATE HAS BEEN UPDATED AS OF JANUARY 19\, 2023. We will not be meeting on our regularly scheduled January 30th date\, but will not be holding our January meeting on February 6\, 2023\, at 6:00 pm \n  \nOur board meets on the 4th Monday of every month. Any cancellations or rescheduling will be posted on our website as soon as the changes are agreed upon by our board members. \nTo view the archive of our previous meeting minutes\, click HERE. \nTo contact our Township Board\, click HERE. \nMEETING ADJOURNMENT TIMES MAY VARY. 
URL:https://pleasantplainstwp.org/event/january-2023-board-meeting/
LOCATION:Pleasant Plains Township Hall\, 7333 South M-37\, Baldwin\, MI\, 49304\, United States
END:VEVENT
BEGIN:VEVENT
DTSTART;TZID=UTC:20221219T180000
DTEND;TZID=UTC:20221219T183000
DTSTAMP:20260421T054001
CREATED:20220223T192513Z
LAST-MODIFIED:20220616T034315Z
UID:889-1671472800-1671474600@pleasantplainstwp.org
SUMMARY:DECEMBER 2022 BOARD MEETING
DESCRIPTION:Our board meets on the 4th Monday of every month. Any cancellations or rescheduling will be posted on our website as soon as the changes are agreed upon by our board members. \nTo view this month’s meeting agenda\, click HERE. \nTo view the archive of our previous meeting minutes\, click HERE. \nTo contact our Township Board\, click HERE. \nMEETING ADJOURNMENT TIMES MAY VARY. 
URL:https://pleasantplainstwp.org/event/december-2022-board-meeting/
LOCATION:Pleasant Plains Township Hall\, 7333 South M-37\, Baldwin\, MI\, 49304\, United States
END:VEVENT
BEGIN:VEVENT
DTSTART;TZID=UTC:20221213T090000
DTEND;TZID=UTC:20221213T100000
DTSTAMP:20260421T054001
CREATED:20221209T022449Z
LAST-MODIFIED:20221209T022449Z
UID:2296-1670922000-1670925600@pleasantplainstwp.org
SUMMARY:2022 BOARD OF REVIEW MEETING
DESCRIPTION:To view the archive of our previous meeting minutes\, click HERE. \nTo contact our Township Board\, click HERE. \nMEETING ADJOURNMENT TIMES MAY VARY. 
URL:https://pleasantplainstwp.org/event/2022-board-of-review-meeting/
LOCATION:Pleasant Plains Township Hall\, 7333 South M-37\, Baldwin\, MI\, 49304\, United States
END:VEVENT
BEGIN:VEVENT
DTSTART;TZID=UTC:20221128T180000
DTEND;TZID=UTC:20221128T183000
DTSTAMP:20260421T054001
CREATED:20220616T034131Z
LAST-MODIFIED:20220616T034131Z
UID:1912-1669658400-1669660200@pleasantplainstwp.org
SUMMARY:NOVEMBER 2022 BOARD MEETING
DESCRIPTION:Our board meets on the 4th Monday of every month. Any cancellations or rescheduling will be posted on our website as soon as the changes are agreed upon by our board members. \nTo view this month’s meeting agenda\, click HERE. \nTo view the archive of our previous meeting minutes\, click HERE. \nTo contact our Township Board\, click HERE. \nMEETING ADJOURNMENT TIMES MAY VARY. 
URL:https://pleasantplainstwp.org/event/november-2022-board-meeting-2/
LOCATION:Pleasant Plains Township Hall\, 7333 South M-37\, Baldwin\, MI\, 49304\, United States
END:VEVENT
BEGIN:VEVENT
DTSTART;TZID=UTC:20221024T180000
DTEND;TZID=UTC:20221024T183000
DTSTAMP:20260421T054001
CREATED:20220223T191435Z
LAST-MODIFIED:20220616T033956Z
UID:885-1666634400-1666636200@pleasantplainstwp.org
SUMMARY:OCTOBER 2022 BOARD MEETING
DESCRIPTION:Our board meets on the 4th Monday of every month. Any cancellations or rescheduling will be posted on our website as soon as the changes are agreed upon by our board members. \nTo view this month’s meeting agenda\, click HERE. \nTo view the archive of our previous meeting minutes\, click HERE. \nTo contact our Township Board\, click HERE. \nMEETING ADJOURNMENT TIMES MAY VARY. 
URL:https://pleasantplainstwp.org/event/october-2022-board-meeting/
LOCATION:Pleasant Plains Township Hall\, 7333 South M-37\, Baldwin\, MI\, 49304\, United States
END:VEVENT
BEGIN:VEVENT
DTSTART;TZID=UTC:20221017T173000
DTEND;TZID=UTC:20221017T180000
DTSTAMP:20260421T054001
CREATED:20220302T224058Z
LAST-MODIFIED:20220929T165405Z
UID:1350-1666027800-1666029600@pleasantplainstwp.org
SUMMARY:OCTOBER 2022 PLANNING COMMISSION MEETING
DESCRIPTION:To contact our Township Officials\, click HERE. \nUPCOMING MEETING DATES: \nMarch 20\, 2023
URL:https://pleasantplainstwp.org/event/october-2022-planning-board-meeting/
LOCATION:Pleasant Plains Township Hall\, 7333 South M-37\, Baldwin\, MI\, 49304\, United States
END:VEVENT
BEGIN:VEVENT
DTSTART;TZID=UTC:20220926T180000
DTEND;TZID=UTC:20220926T183000
DTSTAMP:20260421T054001
CREATED:20220223T191232Z
LAST-MODIFIED:20220616T033842Z
UID:883-1664215200-1664217000@pleasantplainstwp.org
SUMMARY:SEPTEMBER 2022 BOARD MEETING
DESCRIPTION:Our board meets on the 4th Monday of every month. Any cancellations or rescheduling will be posted on our website as soon as the changes are agreed upon by our board members. \nTo view this month’s meeting agenda\, click HERE. \nTo view the archive of our previous meeting minutes\, click HERE. \nTo contact our Township Board\, click HERE. \nMEETING ADJOURNMENT TIMES MAY VARY. 
URL:https://pleasantplainstwp.org/event/september-2022-board-meeting/
LOCATION:Pleasant Plains Township Hall\, 7333 South M-37\, Baldwin\, MI\, 49304\, United States
END:VEVENT
BEGIN:VEVENT
DTSTART;TZID=UTC:20220919T173000
DTEND;TZID=UTC:20220919T180000
DTSTAMP:20260421T054001
CREATED:20220302T224004Z
LAST-MODIFIED:20220616T032548Z
UID:1348-1663608600-1663610400@pleasantplainstwp.org
SUMMARY:SEPTEMBER 2022 PLANNING BOARD MEETING
DESCRIPTION:To contact our Township Board\, click HERE. \nUPCOMING MEETING DATES: \nOctober 17\, 2022 \nMarch 20\, 2023
URL:https://pleasantplainstwp.org/event/september-2022-planning-board-meeting/
LOCATION:Pleasant Plains Township Hall\, 7333 South M-37\, Baldwin\, MI\, 49304\, United States
END:VEVENT
BEGIN:VEVENT
DTSTART;TZID=UTC:20220827T100000
DTEND;TZID=UTC:20220827T110000
DTSTAMP:20260421T054001
CREATED:20220223T191134Z
LAST-MODIFIED:20220616T033755Z
UID:881-1661594400-1661598000@pleasantplainstwp.org
SUMMARY:AUGUST 2022 BOARD MEETING
DESCRIPTION:Our board meets on the 4th Monday of every month. Any cancellations or rescheduling will be posted on our website as soon as the changes are agreed upon by our board members. \nTo view this month’s meeting agenda\, click HERE. \nTo view the archive of our previous meeting minutes\, click HERE. \nTo contact our Township Board\, click HERE. \nMEETING ADJOURNMENT TIMES MAY VARY. 
URL:https://pleasantplainstwp.org/event/august-2022-board-meeting/
LOCATION:Pleasant Plains Township Hall\, 7333 South M-37\, Baldwin\, MI\, 49304\, United States
END:VEVENT
BEGIN:VEVENT
DTSTART;TZID=UTC:20220815T173000
DTEND;TZID=UTC:20220815T180000
DTSTAMP:20260421T054001
CREATED:20220302T223913Z
LAST-MODIFIED:20220616T032440Z
UID:1346-1660584600-1660586400@pleasantplainstwp.org
SUMMARY:AUGUST 2022 PLANNING BOARD MEETING
DESCRIPTION:To contact our Township Board\, click HERE. \nUPCOMING MEETING DATES: \nSeptember 19\, 2022 \nOctober 17\, 2022 \nMarch 20\, 2023
URL:https://pleasantplainstwp.org/event/august-2022-planning-board-meeting/
LOCATION:Pleasant Plains Township Hall\, 7333 South M-37\, Baldwin\, MI\, 49304\, United States
END:VEVENT
BEGIN:VEVENT
DTSTART;TZID=UTC:20220725T180000
DTEND;TZID=UTC:20220725T183000
DTSTAMP:20260421T054001
CREATED:20220223T191031Z
LAST-MODIFIED:20220616T033621Z
UID:879-1658772000-1658773800@pleasantplainstwp.org
SUMMARY:JULY 2022 BOARD MEETING
DESCRIPTION:Our board meets on the 4th Monday of every month. Any cancellations or rescheduling will be posted on our website as soon as the changes are agreed upon by our board members. \nTo view this month’s meeting agenda\, click HERE. \nTo view the archive of our previous meeting minutes\, click HERE. \nTo contact our Township Board\, click HERE. \nMEETING ADJOURNMENT TIMES MAY VARY. 
URL:https://pleasantplainstwp.org/event/july-2022-board-meeting/
LOCATION:Pleasant Plains Township Hall\, 7333 South M-37\, Baldwin\, MI\, 49304\, United States
END:VEVENT
BEGIN:VEVENT
DTSTART;TZID=UTC:20220718T173000
DTEND;TZID=UTC:20220718T180000
DTSTAMP:20260421T054001
CREATED:20220302T223815Z
LAST-MODIFIED:20220616T032328Z
UID:1344-1658165400-1658167200@pleasantplainstwp.org
SUMMARY:JULY 2022 PLANNING BOARD MEETING
DESCRIPTION:To contact our Township Board\, click HERE. \nUPCOMING MEETING DATES: \nAugust 15\, 2022 \nSeptember 19\, 2022 \nOctober 17\, 2022 \nMarch 20\, 2023
URL:https://pleasantplainstwp.org/event/july-2022-planning-board-meeting/
LOCATION:Pleasant Plains Township Hall\, 7333 South M-37\, Baldwin\, MI\, 49304\, United States
END:VEVENT
BEGIN:VEVENT
DTSTART;TZID=UTC:20220627T180000
DTEND;TZID=UTC:20220627T183000
DTSTAMP:20260421T054001
CREATED:20220616T033515Z
LAST-MODIFIED:20220616T033515Z
UID:1910-1656352800-1656354600@pleasantplainstwp.org
SUMMARY:JUNE 2022 BOARD MEETING
DESCRIPTION:Our board meets on the 4th Monday of every month. Any cancellations or rescheduling will be posted on our website as soon as the changes are agreed upon by our board members. \nTo view this month’s meeting agenda\, click HERE. \nTo view the archive of our previous meeting minutes\, click HERE. \nTo contact our Township Board\, click HERE. \nMEETING ADJOURNMENT TIMES MAY VARY. 
URL:https://pleasantplainstwp.org/event/june-2022-board-meeting-2/
LOCATION:Pleasant Plains Township Hall\, 7333 South M-37\, Baldwin\, MI\, 49304\, United States
END:VEVENT
END:VCALENDAR