BEGIN:VCALENDAR
VERSION:2.0
PRODID:-//Pleasant Plains Township - ECPv6.15.20//NONSGML v1.0//EN
CALSCALE:GREGORIAN
METHOD:PUBLISH
X-ORIGINAL-URL:https://pleasantplainstwp.org
X-WR-CALDESC:Events for Pleasant Plains Township
REFRESH-INTERVAL;VALUE=DURATION:PT1H
X-Robots-Tag:noindex
X-PUBLISHED-TTL:PT1H
BEGIN:VTIMEZONE
TZID:UTC
BEGIN:STANDARD
TZOFFSETFROM:+0000
TZOFFSETTO:+0000
TZNAME:UTC
DTSTART:20220101T000000
END:STANDARD
END:VTIMEZONE
BEGIN:VEVENT
DTSTART;TZID=UTC:20230206T180000
DTEND;TZID=UTC:20230206T183000
DTSTAMP:20260425T023654
CREATED:20230119T182905Z
LAST-MODIFIED:20230119T183135Z
UID:2301-1675706400-1675708200@pleasantplainstwp.org
SUMMARY:JANUARY 2023 BOARD MEETING
DESCRIPTION:** THIS MEETING DATE HAS BEEN UPDATED AS OF JANUARY 19\, 2023. We will not be meeting on our regularly scheduled January 30th date\, but will not be holding our January meeting on February 6\, 2023\, at 6:00 pm \n  \nOur board meets on the 4th Monday of every month. Any cancellations or rescheduling will be posted on our website as soon as the changes are agreed upon by our board members. \nTo view the archive of our previous meeting minutes\, click HERE. \nTo contact our Township Board\, click HERE. \nMEETING ADJOURNMENT TIMES MAY VARY. 
URL:https://pleasantplainstwp.org/event/january-2023-board-meeting/
LOCATION:Pleasant Plains Township Hall\, 7333 South M-37\, Baldwin\, MI\, 49304\, United States
END:VEVENT
BEGIN:VEVENT
DTSTART;TZID=UTC:20230227T180000
DTEND;TZID=UTC:20230227T183000
DTSTAMP:20260425T023654
CREATED:20230119T184915Z
LAST-MODIFIED:20230119T184953Z
UID:2305-1677520800-1677522600@pleasantplainstwp.org
SUMMARY:FEBRUARY 2023 BOARD MEETING
DESCRIPTION:Our board meets on the 4th Monday of every month. Any cancellations or rescheduling will be posted on our website as soon as the changes are agreed upon by our board members. \nTo view the archive of our previous meeting minutes\, click HERE. \nTo contact our Township Board\, click HERE. \nMEETING ADJOURNMENT TIMES MAY VARY. 
URL:https://pleasantplainstwp.org/event/february-2023-board-meeting/
LOCATION:Pleasant Plains Township Hall\, 7333 South M-37\, Baldwin\, MI\, 49304\, United States
END:VEVENT
END:VCALENDAR